Package: ecolitk Version: 1.83.0 Command: /Library/Frameworks/R.framework/Resources/bin/R CMD INSTALL ecolitk StartedAt: 2025-11-20 15:06:51 -0500 (Thu, 20 Nov 2025) EndedAt: 2025-11-20 15:06:54 -0500 (Thu, 20 Nov 2025) EllapsedTime: 2.1 seconds RetCode: 0 Status: OK