Package: ecolitk Version: 1.83.0 Command: /Library/Frameworks/R.framework/Resources/bin/R CMD build --keep-empty-dirs --no-resave-data ecolitk StartedAt: 2025-11-20 16:15:32 -0500 (Thu, 20 Nov 2025) EndedAt: 2025-11-20 16:15:40 -0500 (Thu, 20 Nov 2025) EllapsedTime: 8.1 seconds RetCode: 0 Status: OK PackageFile: ecolitk_1.83.0.tar.gz PackageFileSize: 1.829 MiB