Package: ecolitk Version: 1.83.0 Command: rm -rf ecolitk.buildbin-libdir && mkdir ecolitk.buildbin-libdir && /Users/biocbuild/BBS/utils/build-universal.sh ecolitk_1.83.0.tar.gz /Library/Frameworks/R.framework/Resources/bin/R ecolitk.buildbin-libdir StartedAt: 2025-11-20 23:32:05 -0500 (Thu, 20 Nov 2025) EndedAt: 2025-11-20 23:32:08 -0500 (Thu, 20 Nov 2025) EllapsedTime: 3.1 seconds RetCode: 0 Status: OK PackageFile: ecolitk_1.83.0.tgz PackageFileSize: 1.876 MiB