Package: easyreporting Version: 1.23.0 Command: /home/biocbuild/bbs-3.23-bioc/R/bin/R CMD INSTALL easyreporting StartedAt: 2025-10-31 15:15:30 -0400 (Fri, 31 Oct 2025) EndedAt: 2025-10-31 15:15:48 -0400 (Fri, 31 Oct 2025) EllapsedTime: 17.9 seconds RetCode: 0 Status: OK