Package: easyreporting Version: 1.23.0 Command: /home/biocbuild/bbs-3.23-bioc/R/bin/R CMD build --keep-empty-dirs --no-resave-data easyreporting StartedAt: 2025-10-31 17:37:02 -0400 (Fri, 31 Oct 2025) EndedAt: 2025-10-31 17:37:09 -0400 (Fri, 31 Oct 2025) EllapsedTime: 7.0 seconds RetCode: 0 Status: OK PackageFile: easyreporting_1.23.0.tar.gz PackageFileSize: 2.94 MiB