Package: easylift Version: 1.9.0 Command: /home/biocbuild/bbs-3.23-bioc/R/bin/R CMD INSTALL easylift StartedAt: 2025-11-05 15:39:48 -0500 (Wed, 05 Nov 2025) EndedAt: 2025-11-05 15:40:20 -0500 (Wed, 05 Nov 2025) EllapsedTime: 32.5 seconds RetCode: 0 Status: OK