Package: easylift Version: 1.9.0 Command: /home/biocbuild/bbs-3.23-bioc/R/bin/R CMD build --keep-empty-dirs --no-resave-data easylift StartedAt: 2025-11-05 17:28:48 -0500 (Wed, 05 Nov 2025) EndedAt: 2025-11-05 17:29:34 -0500 (Wed, 05 Nov 2025) EllapsedTime: 46.0 seconds RetCode: 0 Status: OK PackageFile: easylift_1.9.0.tar.gz PackageFileSize: 673.6 KiB