Package: easylift Version: 1.7.0 Command: /Library/Frameworks/R.framework/Resources/bin/R CMD INSTALL easylift StartedAt: 2025-10-22 15:30:11 -0400 (Wed, 22 Oct 2025) EndedAt: 2025-10-22 15:30:56 -0400 (Wed, 22 Oct 2025) EllapsedTime: 45.4 seconds RetCode: 0 Status: OK