Package: easylift Version: 1.7.0 Command: /Library/Frameworks/R.framework/Resources/bin/R CMD build --keep-empty-dirs --no-resave-data easylift StartedAt: 2025-10-22 16:50:06 -0400 (Wed, 22 Oct 2025) EndedAt: 2025-10-22 16:50:58 -0400 (Wed, 22 Oct 2025) EllapsedTime: 52.5 seconds RetCode: 0 Status: OK PackageFile: easylift_1.7.0.tar.gz PackageFileSize: 673.5 KiB