Package: easylift Version: 1.7.0 Command: /Library/Frameworks/R.framework/Resources/bin/R CMD INSTALL easylift StartedAt: 2025-10-08 15:23:49 -0400 (Wed, 08 Oct 2025) EndedAt: 2025-10-08 15:24:02 -0400 (Wed, 08 Oct 2025) EllapsedTime: 12.8 seconds RetCode: 0 Status: OK