Package: easylift Version: 1.7.0 Command: rm -rf easylift.buildbin-libdir && mkdir easylift.buildbin-libdir && /Users/biocbuild/BBS/utils/build-universal.sh easylift_1.7.0.tar.gz /Library/Frameworks/R.framework/Resources/bin/R easylift.buildbin-libdir StartedAt: 2025-10-08 22:46:15 -0400 (Wed, 08 Oct 2025) EndedAt: 2025-10-08 22:46:30 -0400 (Wed, 08 Oct 2025) EllapsedTime: 14.3 seconds RetCode: 0 Status: OK PackageFile: easylift_1.7.0.tgz PackageFileSize: 692.1 KiB