Package: easyRNASeq Version: 2.45.1 Command: /home/biocbuild/R/R/bin/R CMD INSTALL easyRNASeq StartedAt: 2025-10-16 22:15:53 -0000 (Thu, 16 Oct 2025) EndedAt: 2025-10-16 22:16:52 -0000 (Thu, 16 Oct 2025) EllapsedTime: 60.0 seconds RetCode: 0 Status: OK