Package: easyRNASeq Version: 2.45.1 Command: /home/biocbuild/R/R/bin/R CMD build --keep-empty-dirs --no-resave-data easyRNASeq StartedAt: 2025-10-17 00:52:19 -0000 (Fri, 17 Oct 2025) EndedAt: 2025-10-17 00:57:39 -0000 (Fri, 17 Oct 2025) EllapsedTime: 320.1 seconds RetCode: 0 Status: OK PackageFile: easyRNASeq_2.45.1.tar.gz PackageFileSize: 69.57 MiB