Package: easyRNASeq Version: 2.45.1 Command: /home/biocbuild/bbs-3.22-bioc/R/bin/R CMD check --install=check:easyRNASeq.install-out.txt --library=/home/biocbuild/bbs-3.22-bioc/R/site-library --timings easyRNASeq_2.45.1.tar.gz StartedAt: 2025-10-10 23:43:52 -0400 (Fri, 10 Oct 2025) EndedAt: 2025-10-10 23:56:57 -0400 (Fri, 10 Oct 2025) EllapsedTime: 784.8 seconds RetCode: 0 Status: WARNINGS CheckDir: easyRNASeq.Rcheck Warnings: 1