Package: easyRNASeq Version: 2.47.0 Command: /home/biocbuild/bbs-3.23-bioc/R/bin/R CMD check --install=check:easyRNASeq.install-out.txt --library=/home/biocbuild/bbs-3.23-bioc/R/site-library --timings easyRNASeq_2.47.0.tar.gz StartedAt: 2025-11-17 23:19:19 -0500 (Mon, 17 Nov 2025) EndedAt: 2025-11-17 23:31:59 -0500 (Mon, 17 Nov 2025) EllapsedTime: 760.0 seconds RetCode: 0 Status: WARNINGS CheckDir: easyRNASeq.Rcheck Warnings: 1