Package: easier Version: 1.15.0 Command: /home/biocbuild/R/R/bin/R CMD build --keep-empty-dirs --no-resave-data easier StartedAt: 2025-10-20 23:31:33 -0000 (Mon, 20 Oct 2025) EndedAt: 2025-10-20 23:38:58 -0000 (Mon, 20 Oct 2025) EllapsedTime: 445.2 seconds RetCode: 0 Status: OK PackageFile: easier_1.15.0.tar.gz PackageFileSize: 2.89 MiB