Package: easier Version: 1.15.0 Command: /home/biocbuild/bbs-3.22-bioc/R/bin/R CMD check --install=check:easier.install-out.txt --library=/home/biocbuild/bbs-3.22-bioc/R/site-library --timings easier_1.15.0.tar.gz StartedAt: 2025-10-09 23:35:02 -0400 (Thu, 09 Oct 2025) EndedAt: 2025-10-09 23:47:35 -0400 (Thu, 09 Oct 2025) EllapsedTime: 752.8 seconds RetCode: 0 Status: OK CheckDir: easier.Rcheck Warnings: 0