Package: easier Version: 1.17.0 Command: /home/biocbuild/bbs-3.23-bioc/R/bin/R CMD INSTALL easier StartedAt: 2025-11-07 15:32:14 -0500 (Fri, 07 Nov 2025) EndedAt: 2025-11-07 15:32:47 -0500 (Fri, 07 Nov 2025) EllapsedTime: 33.3 seconds RetCode: 0 Status: OK