Package: easier Version: 1.17.0 Command: /home/biocbuild/bbs-3.23-bioc/R/bin/R CMD check --install=check:easier.install-out.txt --library=/home/biocbuild/bbs-3.23-bioc/R/site-library --timings easier_1.17.0.tar.gz StartedAt: 2025-11-19 00:02:13 -0500 (Wed, 19 Nov 2025) EndedAt: 2025-11-19 00:15:40 -0500 (Wed, 19 Nov 2025) EllapsedTime: 807.1 seconds RetCode: 0 Status: OK CheckDir: easier.Rcheck Warnings: 0