Package: easier Version: 1.17.0 Command: /home/biocbuild/bbs-3.23-bioc/R/bin/R CMD build --keep-empty-dirs --no-resave-data easier StartedAt: 2025-11-07 17:22:21 -0500 (Fri, 07 Nov 2025) EndedAt: 2025-11-07 17:27:03 -0500 (Fri, 07 Nov 2025) EllapsedTime: 282.4 seconds RetCode: 0 Status: OK PackageFile: easier_1.17.0.tar.gz PackageFileSize: 3.656 MiB