Package: dyebias Version: 1.71.0 Command: /Library/Frameworks/R.framework/Resources/bin/R CMD build --keep-empty-dirs --no-resave-data dyebias StartedAt: 2025-11-21 16:14:18 -0500 (Fri, 21 Nov 2025) EndedAt: 2025-11-21 16:14:31 -0500 (Fri, 21 Nov 2025) EllapsedTime: 13.2 seconds RetCode: 0 Status: OK PackageFile: dyebias_1.71.0.tar.gz PackageFileSize: 2.728 MiB