Package: dyebias Version: 1.71.0 Command: rm -rf dyebias.buildbin-libdir && mkdir dyebias.buildbin-libdir && /Users/biocbuild/BBS/utils/build-universal.sh dyebias_1.71.0.tar.gz /Library/Frameworks/R.framework/Resources/bin/R dyebias.buildbin-libdir StartedAt: 2025-11-21 23:30:49 -0500 (Fri, 21 Nov 2025) EndedAt: 2025-11-21 23:30:53 -0500 (Fri, 21 Nov 2025) EllapsedTime: 4.1 seconds RetCode: 0 Status: OK PackageFile: dyebias_1.71.0.tgz PackageFileSize: 2.292 MiB