Package: dupRadar Version: 1.39.1 Command: /home/biocbuild/R/R/bin/R CMD INSTALL dupRadar StartedAt: 2025-10-23 20:21:52 -0000 (Thu, 23 Oct 2025) EndedAt: 2025-10-23 20:23:08 -0000 (Thu, 23 Oct 2025) EllapsedTime: 76.4 seconds RetCode: 0 Status: OK