Package: dupRadar Version: 1.39.1 Command: /home/biocbuild/R/R/bin/R CMD build --keep-empty-dirs --no-resave-data dupRadar StartedAt: 2025-10-20 23:30:56 -0000 (Mon, 20 Oct 2025) EndedAt: 2025-10-20 23:31:48 -0000 (Mon, 20 Oct 2025) EllapsedTime: 52.0 seconds RetCode: 0 Status: OK PackageFile: dupRadar_1.39.1.tar.gz PackageFileSize: 3.11 MiB