Package: dupRadar Version: 1.39.1 Command: /home/biocbuild/bbs-3.22-bioc/R/bin/R CMD check --install=check:dupRadar.install-out.txt --library=/home/biocbuild/bbs-3.22-bioc/R/site-library --timings dupRadar_1.39.1.tar.gz StartedAt: 2025-10-12 23:28:04 -0400 (Sun, 12 Oct 2025) EndedAt: 2025-10-12 23:29:13 -0400 (Sun, 12 Oct 2025) EllapsedTime: 69.0 seconds RetCode: 0 Status: OK CheckDir: dupRadar.Rcheck Warnings: 0