Package: dupRadar Version: 1.41.0 Command: /home/biocbuild/bbs-3.23-bioc/R/bin/R CMD INSTALL dupRadar StartedAt: 2025-11-21 15:06:21 -0500 (Fri, 21 Nov 2025) EndedAt: 2025-11-21 15:06:51 -0500 (Fri, 21 Nov 2025) EllapsedTime: 30.3 seconds RetCode: 0 Status: OK