Package: dupRadar Version: 1.41.0 Command: /home/biocbuild/bbs-3.23-bioc/R/bin/R CMD check --install=check:dupRadar.install-out.txt --library=/home/biocbuild/bbs-3.23-bioc/R/site-library --timings dupRadar_1.41.0.tar.gz StartedAt: 2025-11-21 23:12:19 -0500 (Fri, 21 Nov 2025) EndedAt: 2025-11-21 23:13:26 -0500 (Fri, 21 Nov 2025) EllapsedTime: 67.0 seconds RetCode: 0 Status: OK CheckDir: dupRadar.Rcheck Warnings: 0