Package: dupRadar Version: 1.39.1 Maintainer: Sergi Sayols , Holger Klein MaintainerEmail: holger.klein at gmail.com git_url: https://git.bioconductor.org/packages/dupRadar git_branch: devel git_last_commit: 41f3c82 git_last_commit_date: 2025-08-30 05:02:47 -0400 (Sat, 30 Aug 2025)