Package: drugTargetInteractions Version: 1.17.0 Command: /home/biocbuild/bbs-3.22-bioc/R/bin/R CMD INSTALL drugTargetInteractions StartedAt: 2025-10-10 15:52:59 -0400 (Fri, 10 Oct 2025) EndedAt: 2025-10-10 15:53:34 -0400 (Fri, 10 Oct 2025) EllapsedTime: 35.9 seconds RetCode: 0 Status: OK