Package: drugTargetInteractions Version: 1.17.0 Command: /home/biocbuild/bbs-3.22-bioc/R/bin/R CMD build --keep-empty-dirs --no-resave-data --md5 drugTargetInteractions StartedAt: 2025-10-10 17:36:48 -0400 (Fri, 10 Oct 2025) EndedAt: 2025-10-10 17:38:23 -0400 (Fri, 10 Oct 2025) EllapsedTime: 95.1 seconds RetCode: 0 Status: OK PackageFile: drugTargetInteractions_1.17.0.tar.gz PackageFileSize: 960.5 KiB