Package: dreamlet Version: 1.7.1 Command: /home/biocbuild/R/R/bin/R CMD INSTALL dreamlet StartedAt: 2025-10-20 21:26:06 -0000 (Mon, 20 Oct 2025) EndedAt: 2025-10-20 21:27:42 -0000 (Mon, 20 Oct 2025) EllapsedTime: 96.8 seconds RetCode: 0 Status: OK