Package: dreamlet Version: 1.7.1 Command: /home/biocbuild/R/R/bin/R CMD build --keep-empty-dirs --no-resave-data dreamlet StartedAt: 2025-10-20 23:29:23 -0000 (Mon, 20 Oct 2025) EndedAt: 2025-10-20 23:39:36 -0000 (Mon, 20 Oct 2025) EllapsedTime: 613.2 seconds RetCode: 0 Status: OK PackageFile: dreamlet_1.7.1.tar.gz PackageFileSize: 3.491 MiB