Package: dreamlet Version: 1.9.0 Command: /home/biocbuild/bbs-3.23-bioc/R/bin/R CMD INSTALL dreamlet StartedAt: 2025-11-16 16:00:36 -0500 (Sun, 16 Nov 2025) EndedAt: 2025-11-16 16:01:44 -0500 (Sun, 16 Nov 2025) EllapsedTime: 68.1 seconds RetCode: 0 Status: OK