Package: dreamlet Version: 1.7.1 Command: rm -rf dreamlet.buildbin-libdir && mkdir dreamlet.buildbin-libdir && /Users/biocbuild/BBS/utils/build-universal.sh dreamlet_1.7.1.tar.gz /Library/Frameworks/R.framework/Resources/bin/R dreamlet.buildbin-libdir StartedAt: 2025-10-04 02:03:16 -0400 (Sat, 04 Oct 2025) EndedAt: 2025-10-04 02:04:39 -0400 (Sat, 04 Oct 2025) EllapsedTime: 82.6 seconds RetCode: 0 Status: OK PackageFile: dreamlet_1.7.1.tgz PackageFileSize: 4.968 MiB