Package: doubletrouble Version: 1.9.1 Command: /home/biocbuild/bbs-3.22-bioc/R/bin/R CMD check --install=check:doubletrouble.install-out.txt --library=/home/biocbuild/bbs-3.22-bioc/R/site-library --timings doubletrouble_1.9.1.tar.gz StartedAt: 2025-10-09 23:30:25 -0400 (Thu, 09 Oct 2025) EndedAt: 2025-10-09 23:36:24 -0400 (Thu, 09 Oct 2025) EllapsedTime: 359.3 seconds RetCode: 0 Status: OK CheckDir: doubletrouble.Rcheck Warnings: 0