Package: doubletrouble Version: 1.11.0 Command: /home/biocbuild/bbs-3.23-bioc/R/bin/R CMD INSTALL doubletrouble StartedAt: 2025-11-04 15:49:55 -0500 (Tue, 04 Nov 2025) EndedAt: 2025-11-04 15:50:38 -0500 (Tue, 04 Nov 2025) EllapsedTime: 43.1 seconds RetCode: 0 Status: OK