Package: doubletrouble Version: 1.11.0 Command: /home/biocbuild/bbs-3.23-bioc/R/bin/R CMD build --keep-empty-dirs --no-resave-data doubletrouble StartedAt: 2025-11-04 17:19:32 -0500 (Tue, 04 Nov 2025) EndedAt: 2025-11-04 17:20:57 -0500 (Tue, 04 Nov 2025) EllapsedTime: 84.1 seconds RetCode: 0 Status: OK PackageFile: doubletrouble_1.11.0.tar.gz PackageFileSize: 4.956 MiB