Package: doseR Version: 1.25.0 Command: /home/biocbuild/R/R/bin/R CMD INSTALL doseR StartedAt: 2025-10-23 20:38:06 -0000 (Thu, 23 Oct 2025) EndedAt: 2025-10-23 20:38:32 -0000 (Thu, 23 Oct 2025) EllapsedTime: 26.0 seconds RetCode: 0 Status: OK