Package: doseR Version: 1.25.0 Command: /home/biocbuild/R/R/bin/R CMD build --keep-empty-dirs --no-resave-data doseR StartedAt: 2025-10-20 23:28:39 -0000 (Mon, 20 Oct 2025) EndedAt: 2025-10-20 23:29:23 -0000 (Mon, 20 Oct 2025) EllapsedTime: 44.0 seconds RetCode: 0 Status: OK PackageFile: doseR_1.25.0.tar.gz PackageFileSize: 1.053 MiB