Package: doseR Version: 1.27.0 Command: /home/biocbuild/bbs-3.23-bioc/R/bin/R CMD INSTALL doseR StartedAt: 2025-11-20 15:18:11 -0500 (Thu, 20 Nov 2025) EndedAt: 2025-11-20 15:18:31 -0500 (Thu, 20 Nov 2025) EllapsedTime: 20.1 seconds RetCode: 0 Status: OK