Package: doseR Version: 1.25.0 Command: /Library/Frameworks/R.framework/Resources/bin/R CMD INSTALL doseR StartedAt: 2025-10-10 15:25:29 -0400 (Fri, 10 Oct 2025) EndedAt: 2025-10-10 15:25:56 -0400 (Fri, 10 Oct 2025) EllapsedTime: 27.2 seconds RetCode: 0 Status: OK