Package: doseR Version: 1.25.0 Command: /Library/Frameworks/R.framework/Resources/bin/R CMD build --keep-empty-dirs --no-resave-data doseR StartedAt: 2025-10-10 17:00:36 -0400 (Fri, 10 Oct 2025) EndedAt: 2025-10-10 17:01:21 -0400 (Fri, 10 Oct 2025) EllapsedTime: 45.7 seconds RetCode: 0 Status: OK PackageFile: doseR_1.25.0.tar.gz PackageFileSize: 1.343 MiB