Package: doseR Version: 1.27.0 Maintainer: ake.vastermark MaintainerEmail: ake.vastermark at gmail.com git_url: https://git.bioconductor.org/packages/doseR git_branch: devel git_last_commit: 8901528 git_last_commit_date: 2025-10-29 10:50:15 -0400 (Wed, 29 Oct 2025)