Package: dominoSignal Version: 1.3.0 Command: /home/biocbuild/R/R/bin/R CMD INSTALL dominoSignal StartedAt: 2025-10-23 20:47:20 -0000 (Thu, 23 Oct 2025) EndedAt: 2025-10-23 20:47:52 -0000 (Thu, 23 Oct 2025) EllapsedTime: 32.0 seconds RetCode: 0 Status: OK