Package: dominoSignal Version: 1.3.0 Command: /home/biocbuild/R/R/bin/R CMD build --keep-empty-dirs --no-resave-data dominoSignal StartedAt: 2025-10-20 23:28:15 -0000 (Mon, 20 Oct 2025) EndedAt: 2025-10-20 23:30:56 -0000 (Mon, 20 Oct 2025) EllapsedTime: 161.1 seconds RetCode: 0 Status: OK PackageFile: dominoSignal_1.3.0.tar.gz PackageFileSize: 629.9 KiB