Package: dominoSignal Version: 1.5.0 Command: /home/biocbuild/bbs-3.23-bioc/R/bin/R CMD INSTALL dominoSignal StartedAt: 2025-11-20 15:26:52 -0500 (Thu, 20 Nov 2025) EndedAt: 2025-11-20 15:27:16 -0500 (Thu, 20 Nov 2025) EllapsedTime: 24.6 seconds RetCode: 0 Status: OK