Package: dominoSignal Version: 1.5.0 Command: /home/biocbuild/bbs-3.23-bioc/R/bin/R CMD build --keep-empty-dirs --no-resave-data dominoSignal StartedAt: 2025-11-20 17:23:27 -0500 (Thu, 20 Nov 2025) EndedAt: 2025-11-20 17:25:23 -0500 (Thu, 20 Nov 2025) EllapsedTime: 116.1 seconds RetCode: 0 Status: OK PackageFile: dominoSignal_1.5.0.tar.gz PackageFileSize: 1.168 MiB