Package: dominatR Version: 0.99.4 Command: /home/biocbuild/bbs-3.23-bioc/R/bin/R CMD INSTALL dominatR StartedAt: 2025-11-06 15:20:36 -0500 (Thu, 06 Nov 2025) EndedAt: 2025-11-06 15:20:58 -0500 (Thu, 06 Nov 2025) EllapsedTime: 22.9 seconds RetCode: 0 Status: OK