Package: dominatR Version: 0.99.4 Command: /home/biocbuild/bbs-3.23-bioc/R/bin/R CMD build --keep-empty-dirs --no-resave-data dominatR StartedAt: 2025-11-06 17:18:24 -0500 (Thu, 06 Nov 2025) EndedAt: 2025-11-06 17:19:11 -0500 (Thu, 06 Nov 2025) EllapsedTime: 47.0 seconds RetCode: 0 Status: OK PackageFile: dominatR_0.99.4.tar.gz PackageFileSize: 2.153 MiB