Package: dmrseq Version: 1.31.0 Command: /home/biocbuild/bbs-3.23-bioc/R/bin/R CMD INSTALL dmrseq StartedAt: 2025-11-05 15:50:02 -0500 (Wed, 05 Nov 2025) EndedAt: 2025-11-05 15:50:53 -0500 (Wed, 05 Nov 2025) EllapsedTime: 51.5 seconds RetCode: 0 Status: OK